BEGIN:VCALENDAR
VERSION:2.0
PRODID:-//ChamberMaster//Event Calendar 2.0//EN
METHOD:PUBLISH
X-PUBLISHED-TTL:P3D
REFRESH-INTERVAL:P3D
CALSCALE:GREGORIAN
BEGIN:VEVENT
DTSTART:20150503T150000Z
DTEND:20150503T220000Z
X-MICROSOFT-CDO-ALLDAYEVENT:FALSE
SUMMARY:The Salvation Army's 125 Anniversary
DESCRIPTION:11:00 AM Major Lurlene Johnson will bring the message in the morning at The Salvation Army Pontiac Corps. 3:00 PM Open Worship at the Pontiac Court House (70 N Saginaw St\, Pontiac\, MI) 3:30 PM Return to The Salvation Army Pontiac Corps. 4:00 PM Gathering The Salvation Army Pontiac Corps. 5:30 PM Refreshments
X-ALT-DESC;FMTTYPE=text/html:11:00 AM Major Lurlene Johnson will bring the message in the morning at The Salvation Army Pontiac Corps. 3:00 PM Open Worship at the Pontiac Court House (70 N Saginaw St\, Pontiac\, MI) 3:30 PM Return to The Salvation Army Pontiac Corps. 4:00 PM Gathering The Salvation Army Pontiac Corps. 5:30 PM Refreshments
LOCATION:The Salvation Army Pontiac Corps. 469 Martin Luther King Jr. Blvd. S. Pontiac\, MI 48342
UID:e.1571.2315
SEQUENCE:3
DTSTAMP:20260425T104451Z
URL:http://auburnhillsaurora.preview.gochambermaster.com/events/details/the-salvation-army-s-125-anniversary-05-03-2015-2315
END:VEVENT

END:VCALENDAR
