BEGIN:VCALENDAR
VERSION:2.0
PRODID:-//ChamberMaster//Event Calendar 2.0//EN
METHOD:PUBLISH
X-PUBLISHED-TTL:P3D
REFRESH-INTERVAL:P3D
CALSCALE:GREGORIAN
BEGIN:VEVENT
DTSTART:20171020T120000Z
DTEND:20171020T130000Z
X-MICROSOFT-CDO-ALLDAYEVENT:FALSE
SUMMARY:TGIFN returns to A Bean to Go in Lake O!
DESCRIPTION:Thank Goodness It's Friday Networking\nJoin us for an informal networking event over a cup of coffee in a relaxed atmosphere. This is a great opportunity to share upcoming events\, experiences\, opportunities and build relationships within the community. \nEverybody is welcome to attend and we encourage you to share this with anybody that would like to increase their connections and grow their business. Please bring extra business cards with you to share!\n\n \nFriday\, October 20\, 2017                                                                                                              8:00   9:00 a.m. \n\nA Bean to Go\n\n16 West Flint Street\n\nLake Orion\, MI\n\nMap & Directions\n\n\n\n\n\n\n\nR.S.V.P.\n\nNo need to R.S.V. P. but for more information\, please contact Al Hassinger at 248-594-9959.\n\n\n\nAl Hassinger\n\nFinancial Advisor\n\nPrivate Wealth Management\n\nBaird
X-ALT-DESC;FMTTYPE=text/html:Thank Goodness It&#39\;s Friday Networking\n<p><span style="color:rgb(51\, 51\, 51)\; font-family:arial\,sans-serif\; font-size:10pt">Join us for an informal networking event over a cup of coffee in a relaxed atmosphere. This is a great opportunity to share upcoming events\, experiences\, opportunities and build relationships within the community. </span></p>\n<span style="color:rgb(51\, 51\, 51)\; font-family:arial\,sans-serif\; font-size:10pt">Everybody is welcome to attend and we encourage you to share this with anybody that would like to increase their connections and grow their business. Please bring extra business cards with you to share!</span><br />\n&nbsp\;\n<p><strong><span style="color:rgb(166\, 54\, 15)\; font-family:arial\,sans-serif\; font-size:10pt">Friday\, October 20\, 2017&nbsp\;&nbsp\;&nbsp\;&nbsp\;&nbsp\;&nbsp\;&nbsp\;&nbsp\;&nbsp\;&nbsp\;&nbsp\;&nbsp\;&nbsp\;&nbsp\;&nbsp\;&nbsp\;&nbsp\;&nbsp\;&nbsp\;&nbsp\;&nbsp\;&nbsp\;&nbsp\;&nbsp\;&nbsp\;&nbsp\;&nbsp\;&nbsp\;&nbsp\;&nbsp\;&nbsp\;&nbsp\;&nbsp\;&nbsp\;&nbsp\;&nbsp\;&nbsp\;&nbsp\;&nbsp\;&nbsp\;&nbsp\;&nbsp\;&nbsp\;&nbsp\;&nbsp\;&nbsp\;&nbsp\;&nbsp\;&nbsp\;&nbsp\;&nbsp\;&nbsp\;&nbsp\;&nbsp\;&nbsp\;&nbsp\;&nbsp\;&nbsp\;&nbsp\;&nbsp\;&nbsp\;&nbsp\;&nbsp\;&nbsp\;&nbsp\;&nbsp\;&nbsp\;&nbsp\;&nbsp\;&nbsp\; &nbsp\;&nbsp\;&nbsp\;&nbsp\;&nbsp\;&nbsp\;&nbsp\;&nbsp\;&nbsp\;&nbsp\;&nbsp\;&nbsp\;&nbsp\;&nbsp\;&nbsp\;&nbsp\;&nbsp\;&nbsp\;&nbsp\;&nbsp\;&nbsp\;&nbsp\;&nbsp\;&nbsp\;&nbsp\;&nbsp\;&nbsp\;&nbsp\;&nbsp\;&nbsp\;&nbsp\;&nbsp\;&nbsp\;&nbsp\;&nbsp\;&nbsp\;&nbsp\;&nbsp\;&nbsp\;</span></strong><strong><span style="font-family:arial\,sans-serif\; font-size:10pt">8:00</span></strong><span style="color:rgb(51\, 51\, 51)\; font-family:arial\,sans-serif\; font-size:10pt"> &ndash\; 9:00 a.m. </span></p>\n\n<p><strong><span style="color:rgb(176\, 88\, 0)\; font-family:arial\,sans-serif\; font-size:10pt">A Bean to Go</span></strong><br />\n<span style="color:rgb(51\, 51\, 51)\; font-family:arial\,sans-serif\; font-size:10pt">16 West Flint Street<br />\nLake Orion\, MI</span><br />\n<a href="http://mapq.st/1pnFTgg"><span style="font-family:arial\,sans-serif\; font-size:10pt">Map &amp\; Directions</span></a><br />\n<br />\n<br />\n<br />\n<strong><span style="color:rgb(176\, 88\, 0)\; font-family:arial\,sans-serif\; font-size:10pt"><strong><span style="color:rgb(176\, 88\, 0)">R.S.V.P.</span></strong></span></strong><br />\n<span style="color:rgb(51\, 51\, 51)\; font-family:arial\,sans-serif\; font-size:10pt">No need to R.S.V. P. but for more information\, please contact Al Hassinger at 248-594-9959.<br />\n<br />\n<strong><strong>Al Hassinger</strong></strong><br />\nFinancial Advisor<br />\nPrivate Wealth Management<br />\nBaird</span></p>\n
LOCATION:A Bean To Go Coffee Shop 16 West Frint Street Lake Orion\, MI
UID:e.1571.5884
SEQUENCE:3
DTSTAMP:20260422T183637Z
URL:http://auburnhillsaurora.preview.gochambermaster.com/events/details/tgifn-returns-to-a-bean-to-go-in-lake-o-5884
END:VEVENT

END:VCALENDAR
