BEGIN:VCALENDAR
VERSION:2.0
PRODID:-//ChamberMaster//Event Calendar 2.0//EN
METHOD:PUBLISH
X-PUBLISHED-TTL:P3D
REFRESH-INTERVAL:P3D
CALSCALE:GREGORIAN
BEGIN:VEVENT
DTSTART:20141022T180000Z
DTEND:20141022T190000Z
X-MICROSOFT-CDO-ALLDAYEVENT:FALSE
SUMMARY:October Downtown Merchants Association Meeting
DESCRIPTION:The Auburn Hills Chamber's Downtown Merchants Association meets regularly to discuss issues relevant to downtown development.
X-ALT-DESC;FMTTYPE=text/html:The Auburn Hills Chamber&rsquo\;s Downtown Merchants Association meets regularly to discuss issues relevant to downtown development. &nbsp\;
LOCATION:Chamber Office
UID:e.1571.1076
SEQUENCE:3
DTSTAMP:20260426T034201Z
URL:http://auburnhillsaurora.preview.gochambermaster.com/events/details/october-downtown-merchants-association-meeting-10-22-2014-1076
END:VEVENT

END:VCALENDAR
