BEGIN:VCALENDAR
VERSION:2.0
PRODID:-//ChamberMaster//Event Calendar 2.0//EN
METHOD:PUBLISH
X-PUBLISHED-TTL:P3D
REFRESH-INTERVAL:P3D
CALSCALE:GREGORIAN
BEGIN:VEVENT
DTSTART:20170509T153000Z
DTEND:20170509T163000Z
X-MICROSOFT-CDO-ALLDAYEVENT:FALSE
SUMMARY:May 2017 Ambassador Committeee Meeting
DESCRIPTION:May Ambassador Committee Meeting
X-ALT-DESC;FMTTYPE=text/html:May Ambassador Committee Meeting
LOCATION:The University Center 3350 Auburn Rd Auburn Hills\, MI 48326
UID:e.1571.4097
SEQUENCE:3
DTSTAMP:20260423T033429Z
URL:http://auburnhillsaurora.preview.gochambermaster.com/events/details/may-2017-ambassador-committeee-meeting-4097
END:VEVENT

END:VCALENDAR
