BEGIN:VCALENDAR
VERSION:2.0
PRODID:-//ChamberMaster//Event Calendar 2.0//EN
METHOD:PUBLISH
X-PUBLISHED-TTL:P3D
REFRESH-INTERVAL:P3D
CALSCALE:GREGORIAN
BEGIN:VEVENT
DTSTART:20170106T140000Z
DTEND:20170106T170000Z
X-MICROSOFT-CDO-ALLDAYEVENT:FALSE
SUMMARY:Job Fair/Open House - General Labor
DESCRIPTION:Is your New Year's resolution to find a new job opportunity? Express Employment Professionals may be able to help. Attend our Open House on Friday\, January 6th from 9AM-12PM Express is located at: 110 W. South Blvd. Suite 200\, Rochester Hills\, MI 48307 (South of M-59\, West of Rochester Road) This is a unique opportunity to meet with our experienced recruiters and discuss our current\, open job opportunities. Here are some of our current needs in Oakland & Macomb Counties:   Cell phone refurbishing company in Troy- $10/hour   Wire harness assembly in Rochester Hills- $10+/hour   Meat packer in Macomb- $12/hour   Machine operator in Chesterfield- $10/hour   Electronics manufacturer in Sterling Heights- $11.50/hour Shift and hourly pay will vary based on a particular position and your experience. Pay ranging from $10 to $12 per hour.
X-ALT-DESC;FMTTYPE=text/html:Is your New Year&rsquo\;s resolution to find a new job opportunity? Express Employment Professionals may be able to help. Attend our Open House on Friday\, January 6th from 9AM-12PM Express is located at: 110 W. South Blvd. Suite 200\, Rochester Hills\, MI 48307 (South of M-59\, West of Rochester Road) This is a unique opportunity to meet with our experienced recruiters and discuss our current\, open job opportunities. Here are some of our current needs in Oakland &amp\; Macomb Counties: &bull\; Cell phone refurbishing company in Troy- $10/hour &bull\; Wire harness assembly in Rochester Hills- $10+/hour &bull\; Meat packer in Macomb- $12/hour &bull\; Machine operator in Chesterfield- $10/hour &bull\; Electronics manufacturer in Sterling Heights- $11.50/hour Shift and hourly pay will vary based on a particular position and your experience. Pay ranging from $10 to $12 per hour.
LOCATION:811 E. South Blvd\, Ste. 210 Rochester Hills\, MI
UID:e.1571.4127
SEQUENCE:3
DTSTAMP:20260423T162943Z
URL:http://auburnhillsaurora.preview.gochambermaster.com/events/details/job-fair-open-house-general-labor-4127
END:VEVENT

END:VCALENDAR
