BEGIN:VCALENDAR
VERSION:2.0
PRODID:-//ChamberMaster//Event Calendar 2.0//EN
METHOD:PUBLISH
X-PUBLISHED-TTL:P3D
REFRESH-INTERVAL:P3D
CALSCALE:GREGORIAN
BEGIN:VEVENT
DTSTART:20160324T110000Z
DTEND:20160324T130000Z
X-MICROSOFT-CDO-ALLDAYEVENT:FALSE
SUMMARY:First Responders Breakfast
DESCRIPTION:It is our privilege to host a special event to honor all Law Enforcement\, Firefighters and EMS personnel whose service and sacrifice keep our community secure. \n\n \n\nPOLICE            FIRE                  EMS\n\n \n\nJoin us for Breakfast\n\nThursday\, March 24\, 2016\n\n7:00 A.M. - 9:00 A.M.
X-ALT-DESC;FMTTYPE=text/html:<span style="font-size: 18px\;"><span style="font-family: franklin gothic medium\;">It is our privilege to host a special event to honor all Law Enforcement\, Firefighters and EMS personnel whose service and sacrifice keep our community secure. </span></span><br />\n&nbsp\;<br />\n<span style="font-size: 24px\;"><span style="font-family: bebas neue\;">POLICE&nbsp\; &nbsp\;&nbsp\;&nbsp\;&nbsp\; </span><span style="font-family: bebas neue\;">&bull\;</span><span style="font-family: bebas neue\;">&nbsp\;&nbsp\;&nbsp\; </span><span style="font-family: bebas neue\;">FIRE&nbsp\;&nbsp\;&nbsp\;&nbsp\; &nbsp\;&nbsp\; </span><span style="font-family: bebas neue\;">&bull\;&nbsp\;&nbsp\;&nbsp\; &nbsp\;&nbsp\;&nbsp\;&nbsp\; EMS</span></span><br />\n&nbsp\;<br />\n<span style="font-size: 28px\;"><span style="color: rgb(0\, 29\, 75)\;"><span style="font-family: bebas neue\;">Join us for Breakfast</span></span><br />\n<span style="color: rgb(0\, 29\, 75)\;"><span style="font-family: bebas neue\;">Thursday\, March 24\, 2016</span></span><br />\n<span style="color: rgb(0\, 29\, 75)\;"><span style="font-family: bebas neue\;">7:00 A.M. - 9:00 A.M.</span></span><br />\n&nbsp\;</span><br />\n&nbsp\;
LOCATION:Hilton Auburn Hills 2300 Featherstone Road Auburn Hills\, MI 48322
UID:e.1571.3690
SEQUENCE:3
DTSTAMP:20260424T121542Z
URL:http://auburnhillsaurora.preview.gochambermaster.com/events/details/first-responders-breakfast-03-24-2016-3690
END:VEVENT

END:VCALENDAR
