BEGIN:VCALENDAR
VERSION:2.0
PRODID:-//ChamberMaster//Event Calendar 2.0//EN
METHOD:PUBLISH
X-PUBLISHED-TTL:P3D
REFRESH-INTERVAL:P3D
CALSCALE:GREGORIAN
BEGIN:VEVENT
DTSTART:20160725T123000Z
DTEND:20160725T143000Z
X-MICROSOFT-CDO-ALLDAYEVENT:FALSE
SUMMARY:Digital Marketing Series Part I
DESCRIPTION:The Digital Marketing Series offers seminars designed to build your business through the synergy created by the digital revolution.  The combination of traditional media\, email marketing\, online advertising\, and social media can be a powerful tool to move your business ahead of the competition.  This three part series will offer education\, referrals and networking. \n\n\n\nTopics:\n\nJuly 25: Search Engine Optimization & Analytics \n\nwith Antoine Dubeauclard\, Media Genesis\n\n\n\nAugust 15: Social Media in the Media Mix\n\nwith Michelle Mills\, The Oakland Press\n\n\n\nSeptember 12: Creating Hot Content\n\nwith Kim Schott\, Constant Contact
X-ALT-DESC;FMTTYPE=text/html:The Digital Marketing Series offers seminars designed to build your business through the synergy created by the digital revolution. &nbsp\;The combination of traditional media\, email marketing\, online advertising\, and social media can be a powerful tool to move your business ahead of the competition. &nbsp\;This three part series will offer education\, referrals and networking.&nbsp\;<br />\n<br />\n<strong><u>Topics:</u></strong><br />\n<span style="font-size: 10pt\; font-family: Arial\, sans-serif\;">July 25: <a alt="http://business.auburnhillschamber.com/events/details/digital-marketing-series-part-i-3566" href="http://r20.rs6.net/tn.jsp?t=zcsuqxxab.0.0.qskwv4dab.0&amp\;id=preview&amp\;r=3&amp\;p=http%3A%2F%2Fbusiness.auburnhillschamber.com%2Fevents%2Fdetails%2Fdigital-marketing-series-part-i-3566" linktype="1" shape="rect" target="_blank" track="on"><span style="color:#333333">Search Engine Optimization &amp\; Analytics </span></a><br />\nwith Antoine Dubeauclard\, Media Genesis<br />\n<br />\nAugust 15: <a alt="http://business.auburnhillschamber.com/events/details/digital-marketing-series-part-ii-3567" href="http://r20.rs6.net/tn.jsp?t=zcsuqxxab.0.0.qskwv4dab.0&amp\;id=preview&amp\;r=3&amp\;p=http%3A%2F%2Fbusiness.auburnhillschamber.com%2Fevents%2Fdetails%2Fdigital-marketing-series-part-ii-3567" linktype="1" shape="rect" target="_blank" track="on"><span style="color:#333333">Social Media in the Media Mix</span></a><br />\nwith Michelle Mills\, The Oakland Press<br />\n<br />\nSeptember 12: <a alt="http://business.auburnhillschamber.com/events/details/digital-marketing-series-part-iii-3568" href="http://r20.rs6.net/tn.jsp?t=zcsuqxxab.0.0.qskwv4dab.0&amp\;id=preview&amp\;r=3&amp\;p=http%3A%2F%2Fbusiness.auburnhillschamber.com%2Fevents%2Fdetails%2Fdigital-marketing-series-part-iii-3568" linktype="1" shape="rect" target="_blank" track="on"><span style="color:#333333">Creating Hot Content</span></a><br />\nwith Kim Schott\, Constant Contact</span>
LOCATION:University Center 3350 Auburn Rd Auburn Hills\, MI 48326
UID:e.1571.3566
SEQUENCE:3
DTSTAMP:20260424T025011Z
URL:http://auburnhillsaurora.preview.gochambermaster.com/events/details/digital-marketing-series-part-i-07-25-2016-3566
END:VEVENT

END:VCALENDAR
