BEGIN:VCALENDAR
VERSION:2.0
PRODID:-//ChamberMaster//Event Calendar 2.0//EN
METHOD:PUBLISH
X-PUBLISHED-TTL:P3D
REFRESH-INTERVAL:P3D
CALSCALE:GREGORIAN
BEGIN:VEVENT
DTSTART:20180323T140000Z
DTEND:20180323T160000Z
X-MICROSOFT-CDO-ALLDAYEVENT:FALSE
SUMMARY:Creating Water Features
DESCRIPTION:Meadow Brook Garden Club presents guest speaker\, Scott Bates\, the owner of Grass Roots Nursery. Scott will provide an introduction to water gardening\, from simple tub gardens to complex ponds. Coffee and refreshments will be served at 9:15 a.m. with program to follow at 10:00 a.m. Guests are welcome and reservations are not required.
X-ALT-DESC;FMTTYPE=text/html:Meadow Brook Garden Club presents guest speaker\, Scott Bates\, the owner of Grass Roots Nursery. Scott will provide an introduction to water gardening\, from simple tub gardens to complex ponds. Coffee and refreshments will be served at 9:15 a.m. with program to follow at 10:00 a.m. Guests are welcome and reservations are not required.
LOCATION:Meadow Brook Hall\, 350 Estate Dr.\, Rochester MI
UID:e.1571.5995
SEQUENCE:3
DTSTAMP:20260422T050010Z
URL:http://auburnhillsaurora.preview.gochambermaster.com/events/details/creating-water-features-5995
END:VEVENT

END:VCALENDAR
