BEGIN:VCALENDAR
VERSION:2.0
PRODID:-//ChamberMaster//Event Calendar 2.0//EN
METHOD:PUBLISH
X-PUBLISHED-TTL:P3D
REFRESH-INTERVAL:P3D
CALSCALE:GREGORIAN
BEGIN:VEVENT
DTSTART:20150512T153000Z
DTEND:20150512T170000Z
X-MICROSOFT-CDO-ALLDAYEVENT:FALSE
SUMMARY:Ambassador Committee Meeting (May)
DESCRIPTION:Ambassadors are members who promote the value of our organization to the business community. They are key Chamber representatives\, meeting monthly.
X-ALT-DESC;FMTTYPE=text/html:<span style="line-height: 20.7999992370605px\;">Ambassadors are members who promote the value of our organization to the business community. They are key Chamber representatives\, meeting monthly.</span>
LOCATION:Oakland University Credit Union 3265 Five Points Drive Auburn Hills\, MI 48326
UID:e.1571.1209
SEQUENCE:3
DTSTAMP:20260425T104441Z
URL:http://auburnhillsaurora.preview.gochambermaster.com/events/details/ambassador-committee-meeting-may-05-12-2015-1209
END:VEVENT

END:VCALENDAR
