BEGIN:VCALENDAR
VERSION:2.0
PRODID:-//ChamberMaster//Event Calendar 2.0//EN
METHOD:PUBLISH
X-PUBLISHED-TTL:P3D
REFRESH-INTERVAL:P3D
CALSCALE:GREGORIAN
BEGIN:VEVENT
DTSTART:20141001T203000Z
DTEND:20141001T230000Z
X-MICROSOFT-CDO-ALLDAYEVENT:FALSE
SUMMARY:All About Women
DESCRIPTION:October 1\, 2014 15th Annual Breast Cancer Awareness Walk & Women's Wellness Event 4:30pm-7:00pm Free for women of all ages and their families! Health Screenings\, Flu shots\, Facial Rejuvenation\, Salon Treatments\, Refreshments\, Health and Wellness Activites. Registration begins at 4:30pm. Walk Starts at 5:15pm. One mile walk through Rochester\, starting and finishing at Crittenton. Crittenton Hospital Medical Center Main Lobby
X-ALT-DESC;FMTTYPE=text/html:October 1\, 2014 15th Annual Breast Cancer Awareness Walk &amp\; Women&#39\;s Wellness Event 4:30pm-7:00pm Free for women of all ages and their families! Health Screenings\, Flu shots\, Facial Rejuvenation\, Salon Treatments\, Refreshments\, Health and Wellness Activites. Registration begins at 4:30pm. Walk Starts at 5:15pm. One mile walk through Rochester\, starting and finishing at Crittenton. Crittenton Hospital Medical Center Main Lobby
LOCATION:Crittenton Hospital Medical Center 1101 W University Dr Rochester\, MI 48307
UID:e.1571.1183
SEQUENCE:3
DTSTAMP:20260426T034201Z
URL:http://auburnhillsaurora.preview.gochambermaster.com/events/details/all-about-women-10-01-2014-1183
END:VEVENT

END:VCALENDAR
