BEGIN:VCALENDAR
VERSION:2.0
PRODID:-//ChamberMaster//Event Calendar 2.0//EN
METHOD:PUBLISH
X-PUBLISHED-TTL:P3D
REFRESH-INTERVAL:P3D
CALSCALE:GREGORIAN
BEGIN:VEVENT
DTSTART:20141024T220000Z
DTEND:20141025T000000Z
X-MICROSOFT-CDO-ALLDAYEVENT:FALSE
SUMMARY:A night of treats\, games & spooky fun!
DESCRIPTION:Join us for face-painting\, candy\, bounce-house\, haunted locker rooms\, games\, crafts and more. There's something for your whole family to enjoy. Make sure you bring your children dressed up in their favorite costumes.\n\n\n\nIf you donate a bag of candy by Wednesday\, October 23rd\, you will receive a guest pass. The limit is two guest passes per family!\n\n\n\nVolunteers are needed! If you would like to volunteer\, please contact Renee at rpellegrini@ymcadetroit.org
X-ALT-DESC;FMTTYPE=text/html:Join us for face-painting\, candy\, bounce-house\, haunted locker rooms\, games\, crafts and more. There&#39\;s something for your whole family to enjoy. Make sure you bring your children dressed up in their favorite costumes.<br />\n<br />\nIf you donate a bag of candy by Wednesday\, October 23rd\, you will receive a guest pass. The limit is two guest passes per family!<br />\n<br />\nVolunteers are needed! If you would like to volunteer\, please contact Renee at rpellegrini@ymcadetroit.org
LOCATION:North Oakland Family YMCA 3378 E. Walton Boulevard Auburn Hills\, MI 48326 248.370.9622
UID:e.1571.1178
SEQUENCE:3
DTSTAMP:20260426T034203Z
URL:http://auburnhillsaurora.preview.gochambermaster.com/events/details/a-night-of-treats-games-spooky-fun-10-24-2014-1178
END:VEVENT

END:VCALENDAR
